BEGIN:VCALENDAR
VERSION:2.0
METHOD:PUBLISH
CALSCALE:GREGORIAN
PRODID:-//WordPress - MECv7.27.0//EN
X-ORIGINAL-URL:https://mymahotsav.com/utsav-pass/
X-WR-CALNAME:Utsav Pass™
X-WR-CALDESC:Faith | Festivals | Friends | Fun
X-WR-TIMEZONE:Europe/London
BEGIN:VTIMEZONE
TZID:Europe/London
X-LIC-LOCATION:Europe/London
BEGIN:DAYLIGHT
TZOFFSETFROM:+0000
TZOFFSETTO:+0100
TZNAME:BST
DTSTART:20260329T020000
RRULE:FREQ=YEARLY;BYMONTH=03;BYDAY=-1SU
END:DAYLIGHT
BEGIN:STANDARD
TZOFFSETFROM:+0100
TZOFFSETTO:+0000
TZNAME:GMT
DTSTART:20261025T010000
RRULE:FREQ=YEARLY;BYMONTH=10;BYDAY=4SU
END:STANDARD
END:VTIMEZONE
REFRESH-INTERVAL;VALUE=DURATION:PT1H
X-PUBLISHED-TTL:PT1H
X-MS-OLK-FORCEINSPECTOROPEN:TRUE
BEGIN:VEVENT
CLASS:PUBLIC
UID:MEC-c51ce410c124a10e0db5e4b97fc2af39@mymahotsav.com
DTSTART;TZID=Europe/London:20260427T080000
DTEND;TZID=Europe/London:20260427T180000
DTSTAMP:20250811T181640Z
RRULE:FREQ=WEEKLY
CREATED:20250811
LAST-MODIFIED:20250811
PRIORITY:5
SEQUENCE:0
TRANSP:OPAQUE
SUMMARY:Weekly on Mondays
DESCRIPTION:
URL:https://mymahotsav.com/utsav-pass/events/weekly-on-mondays/
END:VEVENT
BEGIN:VEVENT
CLASS:PUBLIC
UID:MEC-d947bf06a885db0d477d707121934ff8@mymahotsav.com
DTSTART;TZID=Europe/London:20260427T080000
DTEND;TZID=Europe/London:20260427T180000
DTSTAMP:20250917T125455Z
RRULE:FREQ=WEEKLY
CREATED:20250917
LAST-MODIFIED:20250917
PRIORITY:5
SEQUENCE:0
TRANSP:OPAQUE
SUMMARY:Weekly on Mondays
DESCRIPTION:
URL:https://mymahotsav.com/utsav-pass/events/weekly-on-mondays-2/
END:VEVENT
BEGIN:VEVENT
CLASS:PUBLIC
UID:MEC-07cdfd23373b17c6b337251c22b7ea57@mymahotsav.com
DTSTART;TZID=Europe/London:20260820T080000
DTEND;TZID=Europe/London:20260930T180000
DTSTAMP:20250917T125456Z
RRULE:FREQ=YEARLY
CREATED:20250917
LAST-MODIFIED:20250917
PRIORITY:5
SEQUENCE:2
TRANSP:OPAQUE
SUMMARY:Yearly on August 20th and 21st
DESCRIPTION:
URL:https://mymahotsav.com/utsav-pass/events/yearly-on-august-20th-and-21st-2/
END:VEVENT
BEGIN:VEVENT
CLASS:PUBLIC
UID:MEC-13f320e7b5ead1024ac95c3b208610db@mymahotsav.com
DTSTART;TZID=Europe/London:20260428T200000
DTEND;TZID=Europe/London:20260428T220000
DTSTAMP:20250918T151521Z
RRULE:FREQ=WEEKLY
CREATED:20250918
LAST-MODIFIED:20251203
PRIORITY:5
SEQUENCE:5
TRANSP:OPAQUE
SUMMARY:Virtual Cultural Utsav – “Connecting Hearts, Celebrating Art”
DESCRIPTION:Celebrate the spirit of Indian culture, creativity, and community through a virtual evening of music, dance, and storytelling, streamed live on YouTube. This event is curated to showcase homegrown talent, engage families from afar, and bring the entire community together—no matter where they are.\n🎤 Event Highlights:\n🎶 Live Performances\n\n\nVocal and instrumental music: classical, semi-classical, Bollywood retro\n\n\nDance pieces from Bharatanatyam to Bhangra\n\n\nKids’ talent showcase: poetry, shlokas, stand-up skits\n\n\n📹 Short Community Videos\n\n\n“Message from Home” – elders sharing stories or blessings\n\n\n“Little Stars” – pre-recorded clips of children singing or dancing\n\n\n“Unity in Diversity” – videos sent in from families across cities or countries\n\n\n🏆 Interactive Live Polls & Games\n\n\nViewers can vote live for their favorite act\n\n\nCommunity trivia quizzes with winners announced during the stream\n\n\n🧧 Virtual Lucky Draw\n\n\nParticipants who comment during the stream are automatically entered into a draw\n\n\nWinners receive e-vouchers or community shoutouts\n\n\n
URL:https://mymahotsav.com/utsav-pass/events/virtual-cultural-utsav-connecting-hearts-celebrating-art/
ORGANIZER;CN=Mayank Vijay:MAILTO:josephsifani+4@hotmail.com
ATTACH;FMTTYPE=image/jpeg:https://cdn.mymahotsav.com/wp-content/uploads/sites/13/2025/09/18151504/6763eb2f-eecf-4b7e-9966-6323f5f3d558.jpeg
END:VEVENT
END:VCALENDAR
